BEGIN:VCALENDAR
VERSION:2.0
PRODID:Imitheme.com 
BEGIN:VEVENT
UID:20260422T0955031552420129
DTSTAMP;TZID=UTC:2026-04-22 09:55:03
DTSTART;TZID=America/Los_Angeles:20260510T000000
DTEND;TZID=America/Los_Angeles:20260510T000000
SUMMARY:Mother's Day Celebration Service
LOCATION:99 Butte Street\, Pilot Butte\, SK
DESCRIPTION:
URL:https://rccgppp.org/eventer/mothers-day-celebration-service/
END:VEVENT
END:VCALENDAR
