BEGIN:VCALENDAR
VERSION:2.0
PRODID:Imitheme.com 
BEGIN:VEVENT
UID:20260422T111348203984976
DTSTAMP;TZID=UTC:2026-04-22 11:13:48
DTSTART;TZID=America/Los_Angeles:20260605T000000
DTEND;TZID=America/Los_Angeles:20260605T000000
SUMMARY:Zonal Night Vigil
LOCATION:99 Butte Street\, Pilot Butte\, SK
DESCRIPTION:
URL:https://rccgppp.org/eventer/zonal-night-vigil/
END:VEVENT
END:VCALENDAR
