BEGIN:VCALENDAR
VERSION:2.0
PRODID:Imitheme.com 
BEGIN:VEVENT
UID:20260422T114317118518953
DTSTAMP;TZID=UTC:2026-04-22 11:43:17
DTSTART;TZID=America/Los_Angeles:20260613T000000
DTEND;TZID=America/Los_Angeles:20260613T000000
SUMMARY:Business Breakfast
LOCATION:1771 Bond Street\, Regina\, SK
DESCRIPTION:Start your day with purpose at our Church Business Breakfast — a unique opportunity for church members and Christian professionals to connect, share insights, and grow together. Enjoy a hearty breakfast while engaging in meaningful conversations around faith, leadership, and marketplace impact. This inspiring morning gathering is designed to foster collaboration, strengthen networks, and equip attendees with practical wisdom for advancing their business goals.
URL:https://rccgppp.org/eventer/business-breakfast/
END:VEVENT
END:VCALENDAR
