BEGIN:VCALENDAR
VERSION:2.0
PRODID:Imitheme.com 
BEGIN:VEVENT
UID:20260422T124728587388451
DTSTAMP;TZID=UTC:2026-04-22 12:47:28
DTSTART;TZID=America/Los_Angeles:20260627T000000
DTEND;TZID=America/Los_Angeles:20260627T000000
SUMMARY:March For Jesus
LOCATION:Regina Legislative Building
DESCRIPTION:March for Jesus is an annual interdenominational prayer walk and march that unites Christians from all denominations across Regina. The event aims to affirm the Lordship of Jesus Christ over the city and ignite a spiritual revival in the land by fostering unity within the body of Christ. The inaugural march took place on August 12, 2022, inspired by the Holy Spirit. This followed several virtual quarterly prayer meetings, known as \"Prayer for Regina,\" which gathered Christians from the city to pray together.
URL:https://rccgppp.org/eventer/march-for-jesus/
END:VEVENT
END:VCALENDAR
