BEGIN:VCALENDAR
VERSION:2.0
PRODID:Imitheme.com 
BEGIN:VEVENT
UID:20260422T16045545193561
DTSTAMP;TZID=UTC:2026-04-22 16:04:55
DTSTART;TZID=America/Los_Angeles:20260719T000000
DTEND;TZID=America/Los_Angeles:20260719T000000
SUMMARY:Hymnal Sunday
LOCATION:99 Butte Street\, Pilot Butte\, SK
DESCRIPTION:
URL:https://rccgppp.org/eventer/hymnal-sunday/
END:VEVENT
END:VCALENDAR
