BEGIN:VCALENDAR
VERSION:2.0
PRODID:Imitheme.com 
BEGIN:VEVENT
UID:20260422T142757413050534
DTSTAMP;TZID=UTC:2026-04-22 14:27:57
DTSTART;TZID=America/Los_Angeles:20260710T000000
DTEND;TZID=America/Los_Angeles:20260710T000000
SUMMARY:Teens & Children Weekend
LOCATION:99 Butte Street\, Pilot Butte\, SK
DESCRIPTION:
URL:https://rccgppp.org/eventer/teens-children-weekend/
END:VEVENT
END:VCALENDAR
