BEGIN:VCALENDAR
VERSION:2.0
PRODID:Imitheme.com 
BEGIN:VEVENT
UID:20260422T124913187217997
DTSTAMP;TZID=UTC:2026-04-22 12:49:13
DTSTART;TZID=America/Los_Angeles:20260815T000000
DTEND;TZID=America/Los_Angeles:20260815T000000
SUMMARY:PN Business Summit
LOCATION:3800 Green Falls Dr\, Regina
DESCRIPTION:Join us for the Church Business Summit — a dynamic gathering designed to empower every members and professionals with practical tools for effective stewardship, financial growth, and kingdom impact. Through display from different vendors, and networking opportunities, this summit bridges the gap between faith and business, equipping attendees to lead with excellence both in ministry and the marketplace. Whether you\'re a pastor, ministry leader, or Christian business owner, this is your moment to grow, connect, and thrive.
URL:https://rccgppp.org/eventer/pn-business-summit/
END:VEVENT
END:VCALENDAR
