BEGIN:VCALENDAR
VERSION:2.0
PRODID:Imitheme.com 
BEGIN:VEVENT
UID:20260422T1622032078416224
DTSTAMP;TZID=UTC:2026-04-22 16:22:03
DTSTART;TZID=America/Los_Angeles:20260823T000000
DTEND;TZID=America/Los_Angeles:20260823T000000
SUMMARY:Celebration Service
LOCATION:99 Butte Street\, Pilot Butte\, SK
DESCRIPTION:You\'re invited to join us for an uplifting time of praise, worship, and the WORD every Sunday from 9:30am to 11:30am. After sharing grace, don\'t rush off—take the opportunity to connect with your fellow Peculiar Nation members in the church foyer. It\'s a wonderful chance to get to know each other and build community. We are already thrilled to have you join us! Can\'t make it in person? No problem! You can catch our live service every Sunday morning on all our social media platforms (YouTube, Facebook, Twitter). Missed a service? You can also visit our YouTube channel to view previous services. We look forward to worshipping with you!
URL:https://rccgppp.org/eventer/celebration-service/
END:VEVENT
END:VCALENDAR
