BEGIN:VCALENDAR
VERSION:2.0
PRODID:Imitheme.com 
BEGIN:VEVENT
UID:20260422T1618381662082538
DTSTAMP;TZID=UTC:2026-04-22 16:18:38
DTSTART;TZID=America/Los_Angeles:20260904T000000
DTEND;TZID=America/Los_Angeles:20260904T000000
SUMMARY:Prayer Meeting
LOCATION:99 Butte Street\, Pilot Butte\, SK
DESCRIPTION:We invite you to join us every Friday from 6:30 p.m. to 8:00 p.m. for a powerful and transformative prayer session. As a community, we come boldly before the throne of God, seeking His presence and guidance through heartfelt and fervent prayer. These sessions are a time for us to connect with God on a deeper level, intercede for ourselves and others, and experience the strength and comfort that prayer brings. Whether you come with specific requests or simply a desire to draw closer to God, this dedicated time of prayer is an opportunity to renew your spirit and find peace. Everyone is welcome to join us, whether you are a long-time member or a first-time visitor. Together, we can lift our voices and hearts to God, trusting in His power and faithfulness.
URL:https://rccgppp.org/eventer/prayer-meeting/
END:VEVENT
END:VCALENDAR
