BEGIN:VCALENDAR
VERSION:2.0
PRODID:Imitheme.com 
BEGIN:VEVENT
UID:20260422T1621151655722030
DTSTAMP;TZID=UTC:2026-04-22 16:21:15
DTSTART;TZID=America/Los_Angeles:20260904T000000
DTEND;TZID=America/Los_Angeles:20260904T000000
SUMMARY:Zonal Night Vigil
LOCATION:99 Butte Street\, Pilot Butte\, SK
DESCRIPTION:
URL:https://rccgppp.org/eventer/zonal-night-vigil/
END:VEVENT
END:VCALENDAR
