BEGIN:VCALENDAR
VERSION:2.0
PRODID:Imitheme.com 
BEGIN:VEVENT
UID:20260422T1253351914998232
DTSTAMP;TZID=UTC:2026-04-22 12:53:35
DTSTART;TZID=America/Los_Angeles:20260911T000000
DTEND;TZID=America/Los_Angeles:20260911T000000
SUMMARY:Together Forever
LOCATION:Virtual Church
DESCRIPTION:Solving marriage riddles. Let\'s meet every first Thursday of every quarter by 7:30pm via zoom. Meeting Id - 864 7011 1141 Passcode - 493763
URL:https://rccgppp.org/eventer/together-forever/
END:VEVENT
END:VCALENDAR
