BEGIN:VCALENDAR
VERSION:2.0
PRODID:Imitheme.com 
BEGIN:VEVENT
UID:20260422T180800580104894
DTSTAMP;TZID=UTC:2026-04-22 18:08:00
DTSTART;TZID=America/Los_Angeles:20261009T000000
DTEND;TZID=America/Los_Angeles:20261009T000000
SUMMARY:Regina Power Conference
LOCATION:99 Butte Street\, Pilot Butte\, SK
DESCRIPTION:Can\'t make it in person? No problem! You can watch the conference on all our social media platforms (YouTube, Facebook, Twitter). Missed a service? You can also visit our YouTube channel to view previous services. We look forward to worshipping with you!
URL:https://rccgppp.org/eventer/regina-power-conference/
END:VEVENT
END:VCALENDAR
