BEGIN:VCALENDAR
VERSION:2.0
PRODID:Imitheme.com 
BEGIN:VEVENT
UID:20260422T1957241217504983
DTSTAMP;TZID=UTC:2026-04-22 19:57:24
DTSTART;TZID=America/Los_Angeles:20261017T000000
DTEND;TZID=America/Los_Angeles:20261017T000000
SUMMARY:Membership Integration Session
LOCATION:99 Butte Street\, Pilot Butte\, SK
DESCRIPTION:
URL:https://rccgppp.org/eventer/membership-integration-session/
END:VEVENT
END:VCALENDAR
