BEGIN:VCALENDAR
VERSION:2.0
PRODID:Imitheme.com 
BEGIN:VEVENT
UID:20260422T2339431484480412
DTSTAMP;TZID=UTC:2026-04-22 23:39:43
DTSTART;TZID=America/Los_Angeles:20261127T000000
DTEND;TZID=America/Los_Angeles:20261127T000000
SUMMARY:PrayerFest
LOCATION:99 Butte Street\, Pilot Butte\, SK
DESCRIPTION:Can\'t make it in person? No problem! You can watch the retreat on all our social media platforms (YouTube, Facebook, Twitter). Missed a service? You can also visit our YouTube channel to view previous services. We look forward to worshipping with you!
URL:https://rccgppp.org/eventer/prayerfest/
END:VEVENT
END:VCALENDAR
