BEGIN:VCALENDAR
VERSION:2.0
PRODID:Imitheme.com 
BEGIN:VEVENT
UID:20260422T212640909338817
DTSTAMP;TZID=UTC:2026-04-22 21:26:40
DTSTART;TZID=America/Los_Angeles:20261204T000000
DTEND;TZID=America/Los_Angeles:20261204T000000
SUMMARY:Zonal Night Vigil
LOCATION:99 Butte Street\, Pilot Butte\, SK
DESCRIPTION:
URL:https://rccgppp.org/eventer/zonal-night-vigil/
END:VEVENT
END:VCALENDAR
