BEGIN:VCALENDAR
VERSION:2.0
PRODID:Imitheme.com 
BEGIN:VEVENT
UID:20260422T230000433552535
DTSTAMP;TZID=UTC:2026-04-22 23:00:00
DTSTART;TZID=America/Los_Angeles:20280526T000000
DTEND;TZID=America/Los_Angeles:20280526T000000
SUMMARY:Teens Church Monthly Prayer
LOCATION:Virtual Church
DESCRIPTION:When: Every last Friday of the month Where: Zoom Online Meeting Meeting ID: 443 755 2112 Passcode: YG8045 Time: 10pm - 11pm
URL:https://rccgppp.org/eventer/teens-church-monthly-prayer/
END:VEVENT
END:VCALENDAR
