BEGIN:VCALENDAR
VERSION:2.0
PRODID:Imitheme.com 
BEGIN:VEVENT
UID:20260422T1618311773588771
DTSTAMP;TZID=UTC:2026-04-22 16:18:31
DTSTART;TZID=America/Los_Angeles:20281105T000000
DTEND;TZID=America/Los_Angeles:20281105T000000
SUMMARY:Thanksgiving & Cultural Sunday
LOCATION:99 Butte Street\, Pilot Butte\, SK
DESCRIPTION:You’re invited to join us for our Thanksgiving and Cultural Day every first Sunday of the month from 9:30 AM to 11:30 AM. It’s a heartwarming time of gratitude, filled with praise, dance, and community building. We’re eagerly looking forward to having you with us! Can’t make it in person? No worries! Tune into our live service every Sunday morning on YouTube, Facebook, and Twitter. If you miss a service, you can always catch up by visiting our website under the sermons page or YouTube channel to view past services. We can\'t wait to worship with you!
URL:https://rccgppp.org/eventer/thanksgiving-cultural-sunday/
END:VEVENT
END:VCALENDAR
