BEGIN:VCALENDAR
VERSION:2.0
PRODID:Imitheme.com 
BEGIN:VEVENT
UID:20260422T162040465142184
DTSTAMP;TZID=UTC:2026-04-22 16:20:40
DTSTART;TZID=America/Los_Angeles:20281208T000000
DTEND;TZID=America/Los_Angeles:20281208T000000
SUMMARY:Christmas Carol
LOCATION:99 Butte Street\, Pilot Butte\, SK
DESCRIPTION:🎄✨ Join us for a memorable evening filled with festive joy! RCCG Peculiar Nation is thrilled to announce our annual Christmas Carol Service, which will be held at the church auditorium. We cordially invite you, your family, and friends to come and be a part of this magical celebration as we mark the season of love, joy, and goodwill. The evening will be brimming with: - Uplifting Christmas Bible readings that illuminate the true meaning of the season. - Melodious carols and hymns performed by our talented Peculiar Nation Choir. - A heartwarming and welcoming atmosphere that embodies the spirit of Christmas. Join us as we come together to celebrate the birth of Christ with timeless carols that resonate with the soul and enrich the heart. Let the voices of our choir lead you into an evening of musical reverence and festive cheer. This is a perfect opportunity to reflect, rejoice, and rekindle the warmth of the holiday season. For further details or inquiries, please do not hesitate to contact us: 📞 Phone: 1 306 527 1946 Make this Christmas unforgettable. We can\'t wait to celebrate with you! 🎶✨
URL:https://rccgppp.org/eventer/christmas-carol/
END:VEVENT
END:VCALENDAR
