BEGIN:VCALENDAR
VERSION:2.0
PRODID:Imitheme.com 
BEGIN:VEVENT
UID:20260422T142758144123874
DTSTAMP;TZID=UTC:2026-04-22 14:27:58
DTSTART;TZID=America/Los_Angeles:20290106T000000
DTEND;TZID=America/Los_Angeles:20290106T000000
SUMMARY:Pastoral Counselling
LOCATION:99 Butte Street\, Pilot Butte\, SK
DESCRIPTION:Understanding that life can present various challenges, we\'re dedicated to offering hope and healing to our faith community and beyond. Our mission is to provide biblical support and care to those navigating emotional, psychological, and spiritual struggles in their daily lives. Counselling with the Pastor occurs every Saturday by 5:30pm at the Peace Sanctuary, 99 Pilot Butte Street, Pilot Butte, SK. Booking required @ 306-527-1946 or via this link Counselling with Pastor You can also scan the QR code below to book your appointment.  
URL:https://rccgppp.org/eventer/pastoral-counselling/
END:VEVENT
END:VCALENDAR
